BEGIN:VCALENDAR
VERSION:2.0
PRODID:-//Startup Surrey - ECPv6.15.20//NONSGML v1.0//EN
CALSCALE:GREGORIAN
METHOD:PUBLISH
X-WR-CALNAME:Startup Surrey
X-ORIGINAL-URL:https://startupsurrey.org
X-WR-CALDESC:Events for Startup Surrey
REFRESH-INTERVAL;VALUE=DURATION:PT1H
X-Robots-Tag:noindex
X-PUBLISHED-TTL:PT1H
BEGIN:VTIMEZONE
TZID:America/Vancouver
BEGIN:DAYLIGHT
TZOFFSETFROM:-0800
TZOFFSETTO:-0700
TZNAME:PDT
DTSTART:20210314T100000
END:DAYLIGHT
BEGIN:STANDARD
TZOFFSETFROM:-0700
TZOFFSETTO:-0800
TZNAME:PST
DTSTART:20211107T090000
END:STANDARD
BEGIN:DAYLIGHT
TZOFFSETFROM:-0800
TZOFFSETTO:-0700
TZNAME:PDT
DTSTART:20220313T100000
END:DAYLIGHT
BEGIN:STANDARD
TZOFFSETFROM:-0700
TZOFFSETTO:-0800
TZNAME:PST
DTSTART:20221106T090000
END:STANDARD
BEGIN:DAYLIGHT
TZOFFSETFROM:-0800
TZOFFSETTO:-0700
TZNAME:PDT
DTSTART:20230312T100000
END:DAYLIGHT
BEGIN:STANDARD
TZOFFSETFROM:-0700
TZOFFSETTO:-0800
TZNAME:PST
DTSTART:20231105T090000
END:STANDARD
END:VTIMEZONE
BEGIN:VEVENT
DTSTART;TZID=America/Vancouver:20220516T163000
DTEND;TZID=America/Vancouver:20220516T183000
DTSTAMP:20260420T030925
CREATED:20220421T202102Z
LAST-MODIFIED:20221118T193430Z
UID:6717-1652718600-1652725800@startupsurrey.org
SUMMARY:Fuckup Night - Startup Surrey Edition
DESCRIPTION: We’re back and ready to #sharethefailure (In-Person) May 16th\, 2022\, at 4:30pm PDT \nWith FuckUp Nights: StartUp Surrey Edition? \nWe’ll have inspirational storytelling\, networking\, and food & drink. ?? \nLocation: Health and Technology District – City Centre 1 – Level 2 Address: 13737 96 Ave\, Surrey\, BC V3V 0C6 \nThank you to Startup Canada for supporting the startup community. ???   \nRegister
URL:https://startupsurrey.org/event/fuckup-night-startup-surrey-edition/
LOCATION:City Centre 1\, 13737 96 Ave\, Surrey\, British Columbia\, V3V 0C6
ATTACH;FMTTYPE=image/png:https://startupsurrey.org/wp-content/uploads/2022/04/funight.png
END:VEVENT
END:VCALENDAR