BEGIN:VCALENDAR
VERSION:2.0
PRODID:-//Startup Surrey - ECPv6.15.20//NONSGML v1.0//EN
CALSCALE:GREGORIAN
METHOD:PUBLISH
X-ORIGINAL-URL:https://startupsurrey.org
X-WR-CALDESC:Events for Startup Surrey
REFRESH-INTERVAL;VALUE=DURATION:PT1H
X-Robots-Tag:noindex
X-PUBLISHED-TTL:PT1H
BEGIN:VTIMEZONE
TZID:America/Vancouver
BEGIN:DAYLIGHT
TZOFFSETFROM:-0800
TZOFFSETTO:-0700
TZNAME:PDT
DTSTART:20210314T100000
END:DAYLIGHT
BEGIN:STANDARD
TZOFFSETFROM:-0700
TZOFFSETTO:-0800
TZNAME:PST
DTSTART:20211107T090000
END:STANDARD
BEGIN:DAYLIGHT
TZOFFSETFROM:-0800
TZOFFSETTO:-0700
TZNAME:PDT
DTSTART:20220313T100000
END:DAYLIGHT
BEGIN:STANDARD
TZOFFSETFROM:-0700
TZOFFSETTO:-0800
TZNAME:PST
DTSTART:20221106T090000
END:STANDARD
BEGIN:DAYLIGHT
TZOFFSETFROM:-0800
TZOFFSETTO:-0700
TZNAME:PDT
DTSTART:20230312T100000
END:DAYLIGHT
BEGIN:STANDARD
TZOFFSETFROM:-0700
TZOFFSETTO:-0800
TZNAME:PST
DTSTART:20231105T090000
END:STANDARD
END:VTIMEZONE
BEGIN:VEVENT
DTSTART;TZID=America/Vancouver:20221123T100000
DTEND;TZID=America/Vancouver:20221123T110000
DTSTAMP:20260419T070943
CREATED:20221118T194520Z
LAST-MODIFIED:20221118T195445Z
UID:6761-1669197600-1669201200@startupsurrey.org
SUMMARY:Deloitte OKR Alliance - Maximize your SR&ED Tax Credits with a Successful Year-End Close Process
DESCRIPTION:As the calendar year-end is on the horizon\, many companies are preparing for their fiscal year-end\, while understanding what can potentially trigger by making a SR&ED claim and when to pursue whether or not you may be eligible for this type of funding. \n\nIs your company ready to finalize the financial statements to share with your shareholders and the board?\nAre your financial statements ready for tax filing?\nDo you have the financial strategy and budget for the new operating year?\nAre your financials ready for the due diligence process of the investors?\n\nJoin us and learn how our team of experts can support your day-to-day accounting operations\, prepare your financials for year-end\, and reach your funding milestones with Canada’s largest research and development incentive. \nRegister Now
URL:https://startupsurrey.org/event/deloitte-okr-alliance-maximize-your-sred-tax-credits-with-a-successful-year-end-close-process/
ATTACH;FMTTYPE=image/jpeg:https://startupsurrey.org/wp-content/uploads/2022/11/20221123-Deloitte-OKR.jpeg
END:VEVENT
END:VCALENDAR